BEGIN:VCALENDAR
VERSION:2.0
PRODID:-//Contratero//ES
CALSCALE:GREGORIAN
METHOD:PUBLISH
BEGIN:VEVENT
UID:A.M. 13/2018 Correlador LOGS@contratero.es
DTSTAMP:20260424T015116Z
DTSTART:20220606T235959
DTEND:20220607T005959
SUMMARY:Cierre: Suministro de infraestructura para archivado de LO
DESCRIPTION:Suministro de infraestructura para archivado de LOGS de los sistemas corporativos del Gobierno de Canarias.\\n\\nOrganismo: Dirección General de Telecomunicaciones y Nuevas Tecnologías\\n\\nVer en Contratero: https://contratero.es/contracts/A.M. 13/2018 Correlador LOGS
URL:https://contratero.es/contracts/A.M. 13/2018 Correlador LOGS
STATUS:CONFIRMED
BEGIN:VALARM
TRIGGER:-P1D
ACTION:DISPLAY
DESCRIPTION:Recordatorio: Suministro de infraestructura 
END:VALARM
END:VEVENT
END:VCALENDAR